Package: mixOmics Version: 6.32.0 Command: /home/biocbuild/bbs-3.21-bioc/R/bin/R CMD INSTALL mixOmics StartedAt: 2025-10-05 15:08:47 -0400 (Sun, 05 Oct 2025) EndedAt: 2025-10-05 15:09:32 -0400 (Sun, 05 Oct 2025) EllapsedTime: 44.6 seconds RetCode: 0 Status: OK