Package: mixOmics Version: 6.32.0 Command: /home/biocbuild/bbs-3.21-bioc/R/bin/R CMD build --keep-empty-dirs --no-resave-data mixOmics StartedAt: 2025-10-05 18:36:06 -0400 (Sun, 05 Oct 2025) EndedAt: 2025-10-05 18:47:07 -0400 (Sun, 05 Oct 2025) EllapsedTime: 661.5 seconds RetCode: 0 Status: OK PackageFile: mixOmics_6.32.0.tar.gz PackageFileSize: 18.99 MiB