Package: mixOmics Version: 6.32.0 Command: /Library/Frameworks/R.framework/Resources/bin/R CMD build --keep-empty-dirs --no-resave-data mixOmics StartedAt: 2025-10-13 20:38:12 -0400 (Mon, 13 Oct 2025) EndedAt: 2025-10-13 21:07:21 -0400 (Mon, 13 Oct 2025) EllapsedTime: 1748.6 seconds RetCode: 0 Status: OK PackageFile: mixOmics_6.32.0.tar.gz PackageFileSize: 19.63 MiB