Package: mixOmics Version: 6.32.0 Command: /Library/Frameworks/R.framework/Resources/bin/R CMD check --install=check:mixOmics.install-out.txt --library=/Library/Frameworks/R.framework/Resources/library --no-vignettes --timings mixOmics_6.32.0.tar.gz StartedAt: 2025-04-21 20:23:28 -0400 (Mon, 21 Apr 2025) EndedAt: 2025-04-21 20:30:51 -0400 (Mon, 21 Apr 2025) EllapsedTime: 442.9 seconds RetCode: 0 Status: OK CheckDir: mixOmics.Rcheck Warnings: 0