Package: mixOmics Version: 6.32.0 Command: /Library/Frameworks/R.framework/Resources/bin/R CMD INSTALL mixOmics StartedAt: 2025-09-29 15:28:56 -0400 (Mon, 29 Sep 2025) EndedAt: 2025-09-29 15:29:34 -0400 (Mon, 29 Sep 2025) EllapsedTime: 37.3 seconds RetCode: 0 Status: OK