Package: mixOmics Version: 6.32.0 Command: /Library/Frameworks/R.framework/Resources/bin/R CMD build --keep-empty-dirs --no-resave-data mixOmics StartedAt: 2025-09-30 04:38:49 -0400 (Tue, 30 Sep 2025) EndedAt: 2025-09-30 04:52:26 -0400 (Tue, 30 Sep 2025) EllapsedTime: 817.1 seconds RetCode: 0 Status: OK PackageFile: mixOmics_6.32.0.tar.gz PackageFileSize: 19.9 MiB