Package: mixOmics Version: 6.32.0 Command: rm -rf mixOmics.buildbin-libdir && mkdir mixOmics.buildbin-libdir && /Users/biocbuild/BBS/utils/build-universal.sh mixOmics_6.32.0.tar.gz /Library/Frameworks/R.framework/Resources/bin/R mixOmics.buildbin-libdir StartedAt: 2025-10-01 19:21:28 -0400 (Wed, 01 Oct 2025) EndedAt: 2025-10-01 19:22:15 -0400 (Wed, 01 Oct 2025) EllapsedTime: 47.2 seconds RetCode: 0 Status: OK PackageFile: mixOmics_6.32.0.tgz PackageFileSize: 19.46 MiB