Package: mitology Version: 1.0.0 Command: /Library/Frameworks/R.framework/Resources/bin/R CMD check --install=check:mitology.install-out.txt --library=/Library/Frameworks/R.framework/Resources/library --no-vignettes --timings mitology_1.0.0.tar.gz StartedAt: 2025-04-21 20:23:14 -0400 (Mon, 21 Apr 2025) EndedAt: 2025-04-21 20:24:08 -0400 (Mon, 21 Apr 2025) EllapsedTime: 53.6 seconds RetCode: 0 Status: OK CheckDir: mitology.Rcheck Warnings: 0