Package: mitology Version: 1.0.0 Command: /Library/Frameworks/R.framework/Resources/bin/R CMD build --keep-empty-dirs --no-resave-data mitology StartedAt: 2025-10-14 04:36:16 -0400 (Tue, 14 Oct 2025) EndedAt: 2025-10-14 04:37:01 -0400 (Tue, 14 Oct 2025) EllapsedTime: 45.3 seconds RetCode: 1 Status: ERROR PackageFile: None PackageFileSize: NA