Package: mitology Version: 1.0.0 Command: rm -rf mitology.buildbin-libdir && mkdir mitology.buildbin-libdir && /Users/biocbuild/BBS/utils/build-universal.sh mitology_1.0.0.tar.gz /Library/Frameworks/R.framework/Resources/bin/R mitology.buildbin-libdir StartedAt: 2025-09-10 18:12:19 -0400 (Wed, 10 Sep 2025) EndedAt: 2025-09-10 18:12:46 -0400 (Wed, 10 Sep 2025) EllapsedTime: 27.2 seconds RetCode: 0 Status: OK PackageFile: mitology_1.0.0.tgz PackageFileSize: 2.71 MiB