Package: mitoClone2 Version: 1.14.0 Command: /home/biocbuild/bbs-3.21-bioc/R/bin/R CMD INSTALL mitoClone2 StartedAt: 2025-10-15 15:53:04 -0400 (Wed, 15 Oct 2025) EndedAt: 2025-10-15 15:53:55 -0400 (Wed, 15 Oct 2025) EllapsedTime: 51.1 seconds RetCode: 0 Status: OK