Package: mitoClone2 Version: 1.14.0 Command: /Library/Frameworks/R.framework/Resources/bin/R CMD INSTALL mitoClone2 StartedAt: 2025-10-13 16:38:24 -0400 (Mon, 13 Oct 2025) EndedAt: 2025-10-13 16:40:17 -0400 (Mon, 13 Oct 2025) EllapsedTime: 114.0 seconds RetCode: 0 Status: OK