Package: mitoClone2 Version: 1.14.0 Command: /Library/Frameworks/R.framework/Resources/bin/R CMD INSTALL mitoClone2 StartedAt: 2025-04-21 15:43:12 -0400 (Mon, 21 Apr 2025) EndedAt: 2025-04-21 15:44:21 -0400 (Mon, 21 Apr 2025) EllapsedTime: 69.2 seconds RetCode: 0 Status: OK