Package: mitoClone2 Version: 1.14.0 Command: /Library/Frameworks/R.framework/Resources/bin/R CMD check --install=check:mitoClone2.install-out.txt --library=/Library/Frameworks/R.framework/Resources/library --no-vignettes --timings mitoClone2_1.14.0.tar.gz StartedAt: 2025-04-21 21:57:44 -0400 (Mon, 21 Apr 2025) EndedAt: 2025-04-21 22:04:12 -0400 (Mon, 21 Apr 2025) EllapsedTime: 387.5 seconds RetCode: 0 Status: WARNINGS CheckDir: mitoClone2.Rcheck Warnings: 1