Package: mitoClone2 Version: 1.14.0 Command: /Library/Frameworks/R.framework/Resources/bin/R CMD build --keep-empty-dirs --no-resave-data mitoClone2 StartedAt: 2025-04-21 17:31:15 -0400 (Mon, 21 Apr 2025) EndedAt: 2025-04-21 17:37:41 -0400 (Mon, 21 Apr 2025) EllapsedTime: 386.1 seconds RetCode: 0 Status: OK PackageFile: mitoClone2_1.14.0.tar.gz PackageFileSize: 1.445 MiB