Package: mitoClone2 Version: 1.14.0 Command: /home/biocbuild/R/R/bin/R CMD INSTALL mitoClone2 StartedAt: 2025-10-13 21:12:06 -0000 (Mon, 13 Oct 2025) EndedAt: 2025-10-13 21:13:21 -0000 (Mon, 13 Oct 2025) EllapsedTime: 75.0 seconds RetCode: 0 Status: OK