Package: mitoClone2 Version: 1.14.0 Command: /home/biocbuild/R/R/bin/R CMD build --keep-empty-dirs --no-resave-data mitoClone2 StartedAt: 2025-10-14 02:34:08 -0000 (Tue, 14 Oct 2025) EndedAt: 2025-10-14 02:40:22 -0000 (Tue, 14 Oct 2025) EllapsedTime: 374.2 seconds RetCode: 0 Status: OK PackageFile: mitoClone2_1.14.0.tar.gz PackageFileSize: 1.411 MiB