Package: mitoClone2 Version: 1.14.0 Command: /Library/Frameworks/R.framework/Resources/bin/R CMD build --keep-empty-dirs --no-resave-data mitoClone2 StartedAt: 2025-10-14 04:35:16 -0400 (Tue, 14 Oct 2025) EndedAt: 2025-10-14 04:43:42 -0400 (Tue, 14 Oct 2025) EllapsedTime: 505.8 seconds RetCode: 0 Status: OK PackageFile: mitoClone2_1.14.0.tar.gz PackageFileSize: 1.445 MiB