Package: mitoClone2 Version: 1.14.0 Command: rm -rf mitoClone2.buildbin-libdir && mkdir mitoClone2.buildbin-libdir && /Users/biocbuild/BBS/utils/build-universal.sh mitoClone2_1.14.0.tar.gz /Library/Frameworks/R.framework/Resources/bin/R mitoClone2.buildbin-libdir StartedAt: 2025-10-15 19:22:29 -0400 (Wed, 15 Oct 2025) EndedAt: 2025-10-15 19:23:39 -0400 (Wed, 15 Oct 2025) EllapsedTime: 69.1 seconds RetCode: 0 Status: OK PackageFile: mitoClone2_1.14.0.tgz PackageFileSize: 2.053 MiB