Package: mitch Version: 1.20.0 Command: /home/biocbuild/bbs-3.21-bioc/R/bin/R CMD INSTALL mitch StartedAt: 2025-10-15 15:09:29 -0400 (Wed, 15 Oct 2025) EndedAt: 2025-10-15 15:09:45 -0400 (Wed, 15 Oct 2025) EllapsedTime: 15.5 seconds RetCode: 0 Status: OK