Package: mitch Version: 1.20.0 Command: /home/biocbuild/bbs-3.21-bioc/R/bin/R CMD build --keep-empty-dirs --no-resave-data mitch StartedAt: 2025-10-15 18:34:33 -0400 (Wed, 15 Oct 2025) EndedAt: 2025-10-15 18:39:54 -0400 (Wed, 15 Oct 2025) EllapsedTime: 321.3 seconds RetCode: 0 Status: OK PackageFile: mitch_1.20.0.tar.gz PackageFileSize: 1.102 MiB