Package: mistyR Version: 1.16.0 Command: rm -rf mistyR.buildbin-libdir && mkdir mistyR.buildbin-libdir && /Users/biocbuild/BBS/utils/build-universal.sh mistyR_1.16.0.tar.gz /Library/Frameworks/R.framework/Resources/bin/R mistyR.buildbin-libdir StartedAt: 2025-04-22 00:55:27 -0400 (Tue, 22 Apr 2025) EndedAt: 2025-04-22 00:55:36 -0400 (Tue, 22 Apr 2025) EllapsedTime: 9.3 seconds RetCode: 0 Status: OK PackageFile: mistyR_1.16.0.tgz PackageFileSize: 3.206 MiB