Package: mistyR Version: 1.16.0 Command: /home/biocbuild/R/R/bin/R CMD check --install=check:mistyR.install-out.txt --library=/home/biocbuild/R/R/site-library --no-vignettes --timings mistyR_1.16.0.tar.gz StartedAt: 2025-10-10 11:08:41 -0000 (Fri, 10 Oct 2025) EndedAt: 2025-10-10 11:17:01 -0000 (Fri, 10 Oct 2025) EllapsedTime: 500.5 seconds RetCode: 1 Status: ERROR CheckDir: mistyR.Rcheck Warnings: NA