Package: mistyR Version: 1.16.0 Command: /Library/Frameworks/R.framework/Resources/bin/R CMD check --install=check:mistyR.install-out.txt --library=/Library/Frameworks/R.framework/Resources/library --no-vignettes --timings mistyR_1.16.0.tar.gz StartedAt: 2025-10-15 04:02:50 -0400 (Wed, 15 Oct 2025) EndedAt: 2025-10-15 04:10:10 -0400 (Wed, 15 Oct 2025) EllapsedTime: 440.9 seconds RetCode: 1 Status: ERROR CheckDir: mistyR.Rcheck Warnings: NA