Package: missMethyl Version: 1.42.0 Command: /Library/Frameworks/R.framework/Resources/bin/R CMD check --install=check:missMethyl.install-out.txt --library=/Library/Frameworks/R.framework/Resources/library --no-vignettes --timings missMethyl_1.42.0.tar.gz StartedAt: 2025-09-30 06:28:49 -0400 (Tue, 30 Sep 2025) EndedAt: 2025-09-30 07:03:07 -0400 (Tue, 30 Sep 2025) EllapsedTime: 2058.1 seconds RetCode: 0 Status: WARNINGS CheckDir: missMethyl.Rcheck Warnings: 1