Package: missMethyl Version: 1.42.0 Command: rm -rf missMethyl.buildbin-libdir && mkdir missMethyl.buildbin-libdir && /Users/biocbuild/BBS/utils/build-universal.sh missMethyl_1.42.0.tar.gz /Library/Frameworks/R.framework/Resources/bin/R missMethyl.buildbin-libdir StartedAt: 2025-04-22 00:55:21 -0400 (Tue, 22 Apr 2025) EndedAt: 2025-04-22 01:02:22 -0400 (Tue, 22 Apr 2025) EllapsedTime: 420.6 seconds RetCode: 0 Status: OK PackageFile: missMethyl_1.42.0.tgz PackageFileSize: 1.628 MiB