Package: missMethyl Version: 1.42.0 Command: /home/biocbuild/R/R/bin/R CMD build --keep-empty-dirs --no-resave-data missMethyl StartedAt: 2025-10-14 02:32:26 -0000 (Tue, 14 Oct 2025) EndedAt: 2025-10-14 02:55:08 -0000 (Tue, 14 Oct 2025) EllapsedTime: 1361.6 seconds RetCode: 0 Status: OK PackageFile: missMethyl_1.42.0.tar.gz PackageFileSize: 1.322 MiB