Package: missMethyl Version: 1.42.0 Command: /Library/Frameworks/R.framework/Resources/bin/R CMD INSTALL missMethyl StartedAt: 2025-10-13 18:32:43 -0400 (Mon, 13 Oct 2025) EndedAt: 2025-10-13 18:41:31 -0400 (Mon, 13 Oct 2025) EllapsedTime: 528.0 seconds RetCode: 0 Status: OK