Package: missMethyl Version: 1.42.0 Command: /Library/Frameworks/R.framework/Resources/bin/R CMD check --install=check:missMethyl.install-out.txt --library=/Library/Frameworks/R.framework/Resources/library --no-vignettes --timings missMethyl_1.42.0.tar.gz StartedAt: 2025-10-15 04:02:01 -0400 (Wed, 15 Oct 2025) EndedAt: 2025-10-15 04:32:57 -0400 (Wed, 15 Oct 2025) EllapsedTime: 1856.1 seconds RetCode: 0 Status: WARNINGS CheckDir: missMethyl.Rcheck Warnings: 1