Package: mirIntegrator Version: 1.38.0 Command: /Library/Frameworks/R.framework/Resources/bin/R CMD INSTALL mirIntegrator StartedAt: 2025-10-13 15:49:52 -0400 (Mon, 13 Oct 2025) EndedAt: 2025-10-13 15:50:12 -0400 (Mon, 13 Oct 2025) EllapsedTime: 20.2 seconds RetCode: 0 Status: OK