Package: mirIntegrator Version: 1.38.0 Command: /Library/Frameworks/R.framework/Resources/bin/R CMD check --install=check:mirIntegrator.install-out.txt --library=/Library/Frameworks/R.framework/Resources/library --no-vignettes --timings mirIntegrator_1.38.0.tar.gz StartedAt: 2025-10-15 03:56:48 -0400 (Wed, 15 Oct 2025) EndedAt: 2025-10-15 03:59:48 -0400 (Wed, 15 Oct 2025) EllapsedTime: 179.9 seconds RetCode: 0 Status: OK CheckDir: mirIntegrator.Rcheck Warnings: 0