Package: mirIntegrator Version: 1.38.0 Command: /Library/Frameworks/R.framework/Resources/bin/R CMD build --keep-empty-dirs --no-resave-data mirIntegrator StartedAt: 2025-10-14 04:27:45 -0400 (Tue, 14 Oct 2025) EndedAt: 2025-10-14 04:29:04 -0400 (Tue, 14 Oct 2025) EllapsedTime: 79.4 seconds RetCode: 0 Status: OK PackageFile: mirIntegrator_1.38.0.tar.gz PackageFileSize: 1.808 MiB