Package: minfi Version: 1.54.1 Command: /home/biocbuild/bbs-3.21-bioc/R/bin/R CMD INSTALL minfi StartedAt: 2025-10-15 15:40:02 -0400 (Wed, 15 Oct 2025) EndedAt: 2025-10-15 15:40:51 -0400 (Wed, 15 Oct 2025) EllapsedTime: 49.8 seconds RetCode: 0 Status: OK