Package: minfi Version: 1.54.1 Command: /home/biocbuild/bbs-3.21-bioc/R/bin/R CMD check --install=check:minfi.install-out.txt --library=/home/biocbuild/bbs-3.21-bioc/R/site-library --timings minfi_1.54.1.tar.gz StartedAt: 2025-10-16 01:04:54 -0400 (Thu, 16 Oct 2025) EndedAt: 2025-10-16 01:13:54 -0400 (Thu, 16 Oct 2025) EllapsedTime: 539.6 seconds RetCode: 0 Status: OK CheckDir: minfi.Rcheck Warnings: 0