Package: minfi Version: 1.54.0 Command: /Library/Frameworks/R.framework/Resources/bin/R CMD build --keep-empty-dirs --no-resave-data minfi StartedAt: 2025-04-21 17:29:30 -0400 (Mon, 21 Apr 2025) EndedAt: 2025-04-21 17:31:40 -0400 (Mon, 21 Apr 2025) EllapsedTime: 130.4 seconds RetCode: 0 Status: OK PackageFile: minfi_1.54.0.tar.gz PackageFileSize: 505.4 KiB