Package: mina Version: 1.16.0 Command: /Library/Frameworks/R.framework/Resources/bin/R CMD build --keep-empty-dirs --no-resave-data mina StartedAt: 2025-10-13 20:33:15 -0400 (Mon, 13 Oct 2025) EndedAt: 2025-10-13 20:39:28 -0400 (Mon, 13 Oct 2025) EllapsedTime: 373.1 seconds RetCode: 0 Status: OK PackageFile: mina_1.16.0.tar.gz PackageFileSize: 4.018 MiB