Package: mina Version: 1.16.0 Command: rm -rf mina.buildbin-libdir && mkdir mina.buildbin-libdir && /Users/biocbuild/BBS/utils/build-universal.sh mina_1.16.0.tar.gz /Library/Frameworks/R.framework/Resources/bin/R mina.buildbin-libdir StartedAt: 2025-10-14 14:04:00 -0400 (Tue, 14 Oct 2025) EndedAt: 2025-10-14 14:05:50 -0400 (Tue, 14 Oct 2025) EllapsedTime: 110.0 seconds RetCode: 0 Status: OK PackageFile: mina_1.16.0.tgz PackageFileSize: 7.852 MiB