Package: mimager Version: 1.32.0 Command: /home/biocbuild/bbs-3.21-bioc/R/bin/R CMD check --install=check:mimager.install-out.txt --library=/home/biocbuild/bbs-3.21-bioc/R/site-library --timings mimager_1.32.0.tar.gz StartedAt: 2025-10-16 01:04:30 -0400 (Thu, 16 Oct 2025) EndedAt: 2025-10-16 01:08:42 -0400 (Thu, 16 Oct 2025) EllapsedTime: 252.3 seconds RetCode: 0 Status: OK CheckDir: mimager.Rcheck Warnings: 0