Package: mimager Version: 1.32.0 Command: /Library/Frameworks/R.framework/Resources/bin/R CMD INSTALL mimager StartedAt: 2025-10-13 15:37:22 -0400 (Mon, 13 Oct 2025) EndedAt: 2025-10-13 15:38:18 -0400 (Mon, 13 Oct 2025) EllapsedTime: 56.2 seconds RetCode: 0 Status: OK