Package: mimager Version: 1.32.0 Command: /Library/Frameworks/R.framework/Resources/bin/R CMD check --install=check:mimager.install-out.txt --library=/Library/Frameworks/R.framework/Resources/library --no-vignettes --timings mimager_1.32.0.tar.gz StartedAt: 2025-10-14 06:34:23 -0400 (Tue, 14 Oct 2025) EndedAt: 2025-10-14 06:41:33 -0400 (Tue, 14 Oct 2025) EllapsedTime: 430.5 seconds RetCode: 0 Status: OK CheckDir: mimager.Rcheck Warnings: 0