Package: mimager Version: 1.32.0 Command: rm -rf mimager.buildbin-libdir && mkdir mimager.buildbin-libdir && /Users/biocbuild/BBS/utils/build-universal.sh mimager_1.32.0.tar.gz /Library/Frameworks/R.framework/Resources/bin/R mimager.buildbin-libdir StartedAt: 2025-10-14 14:03:58 -0400 (Tue, 14 Oct 2025) EndedAt: 2025-10-14 14:05:36 -0400 (Tue, 14 Oct 2025) EllapsedTime: 98.2 seconds RetCode: 0 Status: OK PackageFile: mimager_1.32.0.tgz PackageFileSize: 1015 KiB