Package: mimager Version: 1.32.0 Command: /home/biocbuild/R/R/bin/R CMD INSTALL mimager StartedAt: 2025-10-13 20:33:26 -0000 (Mon, 13 Oct 2025) EndedAt: 2025-10-13 20:34:03 -0000 (Mon, 13 Oct 2025) EllapsedTime: 37.5 seconds RetCode: 0 Status: OK