Package: mimager Version: 1.32.0 Command: /Library/Frameworks/R.framework/Resources/bin/R CMD INSTALL mimager StartedAt: 2025-10-13 16:19:13 -0400 (Mon, 13 Oct 2025) EndedAt: 2025-10-13 16:19:45 -0400 (Mon, 13 Oct 2025) EllapsedTime: 31.5 seconds RetCode: 0 Status: OK