Package: mimager Version: 1.32.0 Command: /Library/Frameworks/R.framework/Resources/bin/R CMD check --install=check:mimager.install-out.txt --library=/Library/Frameworks/R.framework/Resources/library --no-vignettes --timings mimager_1.32.0.tar.gz StartedAt: 2025-10-15 03:44:54 -0400 (Wed, 15 Oct 2025) EndedAt: 2025-10-15 03:49:14 -0400 (Wed, 15 Oct 2025) EllapsedTime: 259.7 seconds RetCode: 0 Status: OK CheckDir: mimager.Rcheck Warnings: 0