Package: mimager Version: 1.32.0 Command: /Library/Frameworks/R.framework/Resources/bin/R CMD build --keep-empty-dirs --no-resave-data mimager StartedAt: 2025-10-14 04:22:27 -0400 (Tue, 14 Oct 2025) EndedAt: 2025-10-14 04:23:41 -0400 (Tue, 14 Oct 2025) EllapsedTime: 74.1 seconds RetCode: 0 Status: OK PackageFile: mimager_1.32.0.tar.gz PackageFileSize: 965.3 KiB