Package: miloR Version: 2.4.1 Command: E:\biocbuild\bbs-3.21-bioc\R\bin\R.exe CMD INSTALL miloR StartedAt: 2025-08-14 16:11:27 -0400 (Thu, 14 Aug 2025) EndedAt: 2025-08-14 16:14:17 -0400 (Thu, 14 Aug 2025) EllapsedTime: 170.3 seconds RetCode: 0 Status: OK