Package: miloR Version: 2.4.1 Command: chmod a+r miloR -R && E:\biocbuild\bbs-3.21-bioc\R\bin\R.exe CMD build --keep-empty-dirs --no-resave-data miloR StartedAt: 2025-08-14 20:25:32 -0400 (Thu, 14 Aug 2025) EndedAt: 2025-08-14 20:54:08 -0400 (Thu, 14 Aug 2025) EllapsedTime: 1715.6 seconds RetCode: 0 Status: OK PackageFile: miloR_2.4.1.tar.gz PackageFileSize: 6.06 MiB