Package: miloR Version: 2.4.1 Command: /home/biocbuild/bbs-3.21-bioc/R/bin/R CMD INSTALL miloR StartedAt: 2025-10-15 15:53:42 -0400 (Wed, 15 Oct 2025) EndedAt: 2025-10-15 15:55:57 -0400 (Wed, 15 Oct 2025) EllapsedTime: 135.0 seconds RetCode: 0 Status: OK