Package: midasHLA Version: 1.16.0 Command: rm -rf midasHLA.buildbin-libdir && mkdir midasHLA.buildbin-libdir && E:\biocbuild\bbs-3.21-bioc\R\bin\R.exe CMD INSTALL --build --library=midasHLA.buildbin-libdir midasHLA_1.16.0.tar.gz StartedAt: 2025-08-15 09:42:25 -0400 (Fri, 15 Aug 2025) EndedAt: 2025-08-15 09:43:53 -0400 (Fri, 15 Aug 2025) EllapsedTime: 87.9 seconds RetCode: 0 Status: OK PackageFile: midasHLA_1.16.0.zip PackageFileSize: 2.801 MiB