Package: midasHLA Version: 1.16.0 Command: /Library/Frameworks/R.framework/Resources/bin/R CMD INSTALL midasHLA StartedAt: 2025-10-13 16:25:02 -0400 (Mon, 13 Oct 2025) EndedAt: 2025-10-13 16:25:41 -0400 (Mon, 13 Oct 2025) EllapsedTime: 39.2 seconds RetCode: 0 Status: OK